BEGIN:VCALENDAR
VERSION:2.0
PRODID:-//Volt Europa//Events//EN
CALSCALE:GREGORIAN
METHOD:PUBLISH
BEGIN:VEVENT
UID:apero-debat-proprete-1748365200@voltbelgium.org
DTSTAMP:20260423T130415Z
DTSTART;TZID=Europe/Amsterdam:20250527T190000
DTEND;TZID=Europe/Amsterdam:20250527T210000
SUMMARY:Apéro débat: Comment améliorer la propreté à Bruxelles
DESCRIPTION:Rejoignez nous pour notre deuxième apéro débat\, où l'on va
  débattre comment améliorer la propreté à Bruxelles\, en s'inspirant de
 s propositions et solutions qui ont montré leur efficacité dans d'autres 
 villes de Belgique et d'Europe.
LOCATION:Volt Hub\, Galerie du Cinquantenaire\, Av. de Tervuren 32-36\, 104
 0 Etterbeek
URL:https://voltbelgique.org/bruxelles/evenements/apero-debat-proprete
END:VEVENT
END:VCALENDAR
