BEGIN:VCALENDAR
VERSION:2.0
PRODID:-//Volt Europa//Events//EN
CALSCALE:GREGORIAN
METHOD:PUBLISH
BEGIN:VEVENT
UID:apero-debats-rencontre-volt-avec-le-lobby-climatique-citoyen-1756310400
 @voltbelgium.org
DTSTAMP:20260423T111000Z
DTSTART;TZID=Europe/Amsterdam:20250827T180000
DTEND;TZID=Europe/Amsterdam:20250827T200000
SUMMARY:Apéro-Débats - Rencontre Volt avec le Lobby Climatique Citoyen
DESCRIPTION:La saison des Apéros-Débats de Volt redémarre mercredi 27 ao
 ût ! Pour le premier Apéro-Débat de la nouvelle saison\, Volt a le plais
 ir d’inviter les représentants du Lobby Climatique Citoyen\, une organis
 ation apartisane présente dans plus de 50 pays. Le sujet du jour sera le n
 ouveau marché européen du carbone dit ETS2 qui entrera en vigueur en 2027
 . On vous attend vers 18h\, ce sera aussi l’occasion de partager un apér
 o de rentrée !
LOCATION:Volt Hub\, Galerie du Cinquantenaire\, Av. de Tervuren 32-36\, 104
 0 Etterbeek
URL:https://voltbelgique.org/bruxelles/evenements/apero-debats-rencontre-vo
 lt-avec-le-lobby-climatique-citoyen
END:VEVENT
END:VCALENDAR
