BEGIN:VCALENDAR
VERSION:2.0
PRODID:-//Volt Europa//Events//EN
CALSCALE:GREGORIAN
METHOD:PUBLISH
BEGIN:VEVENT
UID:cafe-politique-que-se-passe-til-au-conseil-communal-1737568800@voltbelg
 ium.org
DTSTAMP:20260423T183055Z
DTSTART;TZID=Europe/Amsterdam:20250122T190000
DTEND;TZID=Europe/Amsterdam:20250122T210000
SUMMARY:Café politique: Que se passe-t'il au conseil communal?
DESCRIPTION:Een politiek café rond de werking van de gemeenteraden\, met s
 pecifieke voorbeelden uit de gemeente Sint-Gillis. Het politieke café word
 t geleid door Cristian Stanuc\, de coördinator van het team in Sint-Gillis
 . De hoofdtaal van de discussie is Frans. Het zal plaatsvinden La Trinquett
 e\, rue de l'Aqueduc 3\, Sint Gillis\, volgens de volgende agenda: 19.00 Ac
 cueil et networking 19.30 Présentation des compétences des conseils commu
 naux  - Cristian Stanuc 19.50 Présentation des débats saint-gillois  - C
LOCATION:La Trinquette\, Rue de l'Aqueduc 3\, 1060 Saint-Gilles
URL:https://voltbelgie.org/brussel/agenda/cafe-politique-que-se-passe-til-a
 u-conseil-communal
END:VEVENT
END:VCALENDAR
