BEGIN:VCALENDAR
VERSION:2.0
PRODID:-//Volt Europa//Events//EN
CALSCALE:GREGORIAN
METHOD:PUBLISH
BEGIN:VEVENT
UID:debat-des-candidats-communaux-saint-gilles-1060-1728664200@voltbelgium.
 org
DTSTAMP:20260423T124740Z
DTSTART;TZID=Europe/Amsterdam:20241011T183000
DTEND;TZID=Europe/Amsterdam:20241011T200000
SUMMARY:Débat des candidats communaux (Saint-Gilles 1060)
DESCRIPTION:La société civile et la communauté des expatriés « Restles
 s Brussels » vous invitent à une discussion/débat en langue anglaise ave
 c les candidats de St Gilles de DéFI-Volt\, PS-Vooruit\, Ecolo-Groen et PT
 B. Venez vous informer sur les manifestes et soyez prêts à poser des ques
 tions. Le nombre de places étant limité\, inscrivez-vous rapidement (voir
  le lien ci-dessous). Date de l'événement : Vendredi 11 octobre Lieu : At
 elier Emile Atelier Emile\, Rue Emile Feron 106\, Saint-Gilles Horaire : Po
 rtes 18
LOCATION:Atelier Emile\, Emile Feronstraat 106\, Sint-Gillis
URL:https://voltbelgique.org/bruxelles/evenements/debat-des-candidats-commu
 naux-saint-gilles-1060
END:VEVENT
END:VCALENDAR
