BEGIN:VCALENDAR
VERSION:2.0
PRODID:-//Volt Europa//Events//EN
CALSCALE:GREGORIAN
METHOD:PUBLISH
BEGIN:VEVENT
UID:meet-and-greet-de-bundestagswahl-1738418400@voltbelgium.org
DTSTAMP:20260423T110929Z
DTSTART;TZID=Europe/Amsterdam:20250201T150000
DTEND;TZID=Europe/Amsterdam:20250201T170000
SUMMARY:Meet and Greet (DE) - Bundestagswahl
DESCRIPTION:Am 1. Februar 2025 laden Volt Brüssel und Volt Berlin alle deu
 tschen Wählerinnen und Wähler in Belgien zu einem  Meet and Greet  im Hub
  von Volt ein\, um Informationen und eine Diskussionsmöglichkeit zu den be
 vorstehenden Wahlen zum Deutschen Bundestag zu bieten. Die Wahl findet am 2
 3. Februar 2025 statt\, und wir möchten auf ihre Bedeutung für Europa im 
 Allgemeinen und für Volt im Besonderen aufmerksam machen und die Wählerin
 nen und Wähler ermutigen\, sich zu registrieren und für Volt zu stimmen. 
LOCATION:Volt Hub\, Galerie du Cinquantenaire\, Av. de Tervuren 32-36\, 104
 0 Etterbeek
URL:https://voltbelgie.org/brussel/agenda/meet-and-greet-de-bundestagswahl
END:VEVENT
END:VCALENDAR
