BEGIN:VCALENDAR
VERSION:2.0
PRODID:-//Volt Europa//Events//EN
CALSCALE:GREGORIAN
METHOD:PUBLISH
BEGIN:VEVENT
UID:meet-greet-avec-alast-mojtahed-najafi-1751302800@voltbelgium.org
DTSTAMP:20260423T123820Z
DTSTART;TZID=Europe/Amsterdam:20250630T190000
DTEND;TZID=Europe/Amsterdam:20250630T220000
SUMMARY:Meet & Greet avec Alast Mojtahed Najafi
DESCRIPTION:Rejoignez-nous pour notre prochaine rencontre avec notre invitÃ
 ©e spÃ©ciale Alast Mojtahed Najafi. Alast vit entre Bruxelles et Berlin et 
 a rÃ©cemment Ã©tÃ© Ã©lue au conseil d'administration de Volt Allemagne. Nou
 s vous invitons cordialement Ã  nous rejoindre pour des discussions informe
 lles sur les dÃ©fis de nos deux sections pour se dÃ©velopper et prÃ©parer l
 es Ã©lections de 2029.
LOCATION:CafÃ© Merlo\, Quai aux briques 80\, Bruxelles 1000
URL:https://voltbelgique.org/evenements/meet-greet-avec-alast-mojtahed-naja
 fi
END:VEVENT
END:VCALENDAR
