BEGIN:VCALENDAR
VERSION:2.0
PRODID:-//Volt Europa//Events//EN
CALSCALE:GREGORIAN
METHOD:PUBLISH
BEGIN:VEVENT
UID:meet-greet-bruxelles-volt-bxl-2026-1767031200@voltbelgium.org
DTSTAMP:20260423T143028Z
DTSTART;TZID=Europe/Amsterdam:20251229T190000
DTEND;TZID=Europe/Amsterdam:20251229T220000
SUMMARY:Meet & Greet Bruxelles – Volt BXL 2026
DESCRIPTION:Lieu 1er étage du  Café Merlo\, Quai aux Briques 80\, 1000 Br
 ussel Horaire 19h-22h Entrée Gratuite :  tout le monde est le bienvenu Int
 roduction idéale pour une première rencontre Souhaitez-vous faire la diff
 érence à Bruxelles avec Volt et réfléchir ensemble aux politiques de de
 main ? Ou préférez-vous d’abord découvrir Volt Europe ou Volt Belgique
  ? Venez faire connaissance dans une ambiance conviviale avec les membres d
 e Volt Bruxelles et d’ailleurs ! Partagez une bière ou une limonade avec
  nous 
LOCATION:1er étage du Café Merlo\, Quai aux Briques 80\, 1000 Bruxelles
URL:https://voltbelgique.org/bruxelles/evenements/meet-greet-bruxelles-volt
 -bxl-2026
END:VEVENT
END:VCALENDAR
