BEGIN:VCALENDAR
VERSION:2.0
PRODID:-//Volt Europa//Events//EN
CALSCALE:GREGORIAN
METHOD:PUBLISH
BEGIN:VEVENT
UID:meet-greet-saint-gilles-1742407200@voltbelgium.org
DTSTAMP:20260424T124037Z
DTSTART;TZID=Europe/Amsterdam:20250319T190000
DTEND;TZID=Europe/Amsterdam:20250319T210000
SUMMARY:Meet & Greet Brussels
DESCRIPTION:L'équipe locale de Saint Gilles nous accueille pour un Meet & 
 Greet !  Rendez-vous à La Trinquette\, pour fêter l'arrivée du printemps
 . Venez partager un verre et discuter de politique avec des Volters engagé
 s et présenter vos idées démocratiques innovantes à l'équipe. Amenez v
 os amis\, vos collègues et votre famille. Tout le monde est bienvenu !
LOCATION:La Trinquette\, Rue de l'Aqueduc 3\, 1060 Saint-Gilles
URL:https://voltbelgique.org/bruxelles/evenements/meet-greet-saint-gilles
END:VEVENT
END:VCALENDAR
