BEGIN:VCALENDAR
VERSION:2.0
PRODID:-//Volt Europa//Events//EN
CALSCALE:GREGORIAN
METHOD:PUBLISH
BEGIN:VEVENT
UID:meetgreet-etudiants-1746635400@voltbelgium.org
DTSTAMP:20260423T122329Z
DTSTART;TZID=Europe/Amsterdam:20250507T183000
DTEND;TZID=Europe/Amsterdam:20250507T203000
SUMMARY:Meet&Greet Étudiants
DESCRIPTION:Meet&Greet pour les étudiants de la région Bruxelles. Nous vo
 us attendons nombreux pour se retrouver autour d'un verre avant la période
  des examens. Nous serons en présence de Emeric Massaut\, co-président de
  Volt Belgique\, et de Alixxa Salvia\, membre du Bureau de Volt Belgique et
  étudiante à l'ULB.
LOCATION:Ginette Cim Dix\, Av de l'Université 1\, Ixelles
URL:https://voltbelgique.org/bruxelles/evenements/meetgreet-etudiants
END:VEVENT
END:VCALENDAR
