BEGIN:VCALENDAR
VERSION:2.0
PRODID:-//Volt Europa//Events//EN
CALSCALE:GREGORIAN
METHOD:PUBLISH
BEGIN:VEVENT
UID:permanence-au-hub-1801-1737190800@voltbelgium.org
DTSTAMP:20260423T110725Z
DTSTART;TZID=Europe/Amsterdam:20250118T100000
DTEND;TZID=Europe/Amsterdam:20250118T140000
SUMMARY:Permanence au Hub
DESCRIPTION:En janvier\, l'Ã©quipe de Bruxelles lance une nouvelle activitÃ
 © : tous les samedis de janvier\, une permanence sera assurÃ©e au Hub. Tout
  le monde est invitÃ© et encouragÃ© Ã  passer ! Un membre de l'Ã©quipe de B
 ruxelles sera prÃ©sent et heureux de discuter de politique\, de stratÃ©gie\
 , d'Ã©vÃ©nements Ã  venir\, de comment s'impliquer dans les diffÃ©rentes ac
 tivitÃ©s... Le Hub sera Ã©galement ouvert au grand public\, alors n'hÃ©site
 z pas Ã  venir donner un coup de main pour l'accueil.
LOCATION:Volt Hub\, Galerie du Cinquantenaire\, Av. de Tervuren 32-36\, 104
 0 Etterbeek
URL:https://voltbelgique.org/bruxelles/evenements/permanence-au-hub-1801
END:VEVENT
END:VCALENDAR
