BEGIN:VCALENDAR
VERSION:2.0
PRODID:-//Volt Europa//Events//EN
CALSCALE:GREGORIAN
METHOD:PUBLISH
BEGIN:VEVENT
UID:reception-nationale-du-nouvel-an-2026-volt-belgique-1768586400@voltbelg
 ium.org
DTSTAMP:20260423T092934Z
DTSTART;TZID=Europe/Amsterdam:20260116T190000
DTEND;TZID=Europe/Amsterdam:20260116T223000
SUMMARY:Réception Nationale du Nouvel An 2026 - Volt Belgique
DESCRIPTION:✨ Suite au grand succès de la réception de l'an dernier à 
 Gand\, le conseil d'administration de Volt Belgium a le plaisir de vous inv
 iter à la  Réception de Nouvel An 2026 de Volt Belgique  — cette fois-c
 i à  Malines \, à quelques pas seulement de la gare ! 🚆 Rejoignez-nous
  le  vendredi 16 janvier  pour une soirée inspirante. Ce sera l'occasion i
 déale de  rencontrer des membres de tout le pays \, d'échanger des idées
 \, de célébrer nos réussites et de lancer l'année 2026 ensemble\, avec 
 énergie et opt
LOCATION:Café "ViaVia" de Malines (salle privatisée)\, Zandpoortvest 50\,
  2800 Mechelen
URL:https://voltbelgique.org/bruxelles/evenements/reception-nationale-du-no
 uvel-an-2026-volt-belgique
END:VEVENT
END:VCALENDAR
