BEGIN:VCALENDAR
VERSION:2.0
PRODID:-//Volt Europa//Events//EN
CALSCALE:GREGORIAN
METHOD:PUBLISH
BEGIN:VEVENT
UID:unir-leurope-face-aux-defis-de-demain-rencontre-avec-la-copresidente-de
 -volt-europa-fr-1761238800@voltbelgium.org
DTSTAMP:20260423T130742Z
DTSTART;TZID=Europe/Amsterdam:20251023T190000
DTEND;TZID=Europe/Amsterdam:20251023T220000
SUMMARY:🇪🇺 Unir l'Europe face aux défis de demain - Rencontre avec V
 olt Europa [FR]
DESCRIPTION:🇪🇺 Alors que l’Europe fait face à la guerre en Ukraine
 \, aux menaces de Poutine\, à l’incertitude liée au retour de Trump et 
 à la montée des mouvements nationaux-populistes\, une question devient ur
 gente : comment rendre l’Europe plus forte et plus souveraine ? 🇪🇺 
 Volt Europa\, parti paneuropéen comptant à travers le continent des centa
 ines d’élues et élus dont 5 europarlementaires\, propose des solutions 
 transnationales pour relever ces défis communs. Le MLE-Mouvement libéral 
 étudiant et Volt Belgiu
LOCATION:Studio 11\, Place Agora 19\, Louvain-la-Neuve
URL:https://voltbelgique.org/evenements/unir-leurope-face-aux-defis-de-dema
 in-rencontre-avec-la-copresidente-de-volt-europa-fr
END:VEVENT
END:VCALENDAR
