BEGIN:VCALENDAR
VERSION:2.0
PRODID:-//Volt Europa//Events//EN
CALSCALE:GREGORIAN
METHOD:PUBLISH
BEGIN:VEVENT
UID:20231129-la-leuven-1701284400@voltbelgium.org
DTSTAMP:20260423T104305Z
DTSTART;TZID=Europe/Amsterdam:20231129T200000
DTEND;TZID=Europe/Amsterdam:20231129T214500
SUMMARY:Winter 2023 Local Assembly Volt Leuven
DESCRIPTION:Wij zijn verheugd u uit te nodigen voor de  Winter 2023  Loc
 al Assembly Volt Leuven . Wat? De Local Assembly (LA) is het besluitvorming
 sorgaan van een lokaal team. Het belangrijkste doel voor de LA in november 
 2023 is het kiezen van de City Co-Leads die het Leuvense team naar nieuwe h
 oogten zullen tillen. Om een gender-evenwicht te behouden\, zijn we op zoe
 k naar zowel een  mannelijke  als een  niet-mannelijke  City Co-Lead. W
 ie? Het team van Volt Leuven bestrijkt de hele provincie  Vlaams-Braban
LOCATION:Café Tempo\, Kessel-Lo
URL:https://voltbelgie.org/agenda/20231129-la-leuven
END:VEVENT
END:VCALENDAR
