BEGIN:VCALENDAR
VERSION:2.0
PRODID:-//Volt Europa//Events//EN
CALSCALE:GREGORIAN
METHOD:PUBLISH
BEGIN:VEVENT
UID:20231129-marcheclimat-1701603000@voltbelgium.org
DTSTAMP:20260423T130115Z
DTSTART;TZID=Europe/Amsterdam:20231203T123000
DTEND;TZID=Europe/Amsterdam:20231203T160000
SUMMARY:Marche climat Bruxelles !
DESCRIPTION:Volt Belgique a besoin de toi ! Ce dimanche (03/12)\, nous marc
 herons ensemble pour notre planète et notre avenir en rejoignant la marche
  pour le climat de Bruxelles. En tant que seul parti climatique paneuropée
 n\, notre voix est cruciale. Venez en violet et rendons notre présence inc
 ontournable. Ce sera bien plus qu'une marche \; c'est une déclaration en f
 aveur de l'énergie verte\, de la restauration de la nature et de l'agricul
 ture durable. Nous avons besoin du changement maintenant. Allons-y\, Vol
LOCATION:Avenue Albert II laan
URL:https://voltbelgique.org/evenements/20231129-marcheclimat
END:VEVENT
END:VCALENDAR
