BEGIN:VCALENDAR
VERSION:2.0
PRODID:-//Volt Europa//Events//EN
CALSCALE:GREGORIAN
METHOD:PUBLISH
BEGIN:VEVENT
UID:20231205-meetgreetbxl-1701797400@voltbelgium.org
DTSTAMP:20260423T142611Z
DTSTART;TZID=Europe/Amsterdam:20231205T183000
DTEND;TZID=Europe/Amsterdam:20231205T220000
SUMMARY:Meet & Greet Brussels
DESCRIPTION:It is time for another Meet & Greet in the heart of Brussels! U
 pstairs at Café Merlo in the cozy Dansaert area\, you will find a warm hot
  spot surrounded by the Winter Festivities. Share a drink and talk politics
  with engaged Volters and pitch your newest democratic innovative ideas to 
 our candidates (e.g. our MEP and MEP-candidate Sophie in 't Veld). We will 
 see you on Tuesday night\, and bring your friends\, colleagues and family. 
 Everyone is welcome! Next Social: 19/12
LOCATION:Café Merlo\, Dansaert\, Brussels
URL:https://voltbelgium.org/events/20231205-meetgreetbxl
END:VEVENT
END:VCALENDAR
