BEGIN:VCALENDAR
VERSION:2.0
PRODID:-//Volt Europa//Events//EN
CALSCALE:GREGORIAN
METHOD:PUBLISH
BEGIN:VEVENT
UID:20231207-politiekcafeinleuven-1701973800@voltbelgium.org
DTSTAMP:20260423T110843Z
DTSTART;TZID=Europe/Amsterdam:20231207T193000
DTEND;TZID=Europe/Amsterdam:20231207T210000
SUMMARY:Politiek CafÃ© in Leuven
DESCRIPTION:De toekomst van Europa in de nieuwe wereldorde met Europarlemen
 tslid Sophie in â€˜t Veld Donderdag 7 december 19:30 - 21:00 Locatie:  CafÃ
 © Tempo Baron August de Becker Remyplein 52 3010 Kessel-Lo Politiek CafÃ© m
 et Sophie in â€˜t Veld\, Europarlementslid van de pan-Europese politieke pa
 rtij Volt\, over de uitdagingen en kansen voor de Europese Unie in een raze
 ndsnel veranderende wereld. Je bent van harte welkom om mee te doen aan de 
 discussie\, en voor napraten bij een drankje achteraf. Dit is het momen
LOCATION:CafÃ© Tempo\, Kessel-Lo
URL:https://voltbelgie.org/agenda/20231207-politiekcafeinleuven
END:VEVENT
END:VCALENDAR
