BEGIN:VCALENDAR
VERSION:2.0
PRODID:-//Volt Europa//Events//EN
CALSCALE:GREGORIAN
METHOD:PUBLISH
BEGIN:VEVENT
UID:20240101-panel-1706812200@voltbelgium.org
DTSTAMP:20260423T125944Z
DTSTART;TZID=Europe/Amsterdam:20240201T193000
DTEND;TZID=Europe/Amsterdam:20240201T220000
SUMMARY:Volt goes to 'Election Year: Intergenerational Discussion'
DESCRIPTION:This is an external event visited by Volt\, but which is not or
 ganised by Volt. 2024 is a bumper year for elections and it's never been mo
 re important than for women's voices and rights to be heard. What challenge
 s do women face in / entering politics? What are the issues you want to see
  raised not only this year but in the years to come? We are excited to welc
 ome this impressive group of women from across Europe for our first Electio
 n Year event on Thursday 1 February. After a short panel discus
LOCATION:The Nine\, 69 Rue Archimède 1000 Bruxelles
URL:https://voltbelgium.org/events/20240101-panel
END:VEVENT
END:VCALENDAR
