BEGIN:VCALENDAR
VERSION:2.0
PRODID:-//Volt Europa//Events//EN
CALSCALE:GREGORIAN
METHOD:PUBLISH
BEGIN:VEVENT
UID:20240111-meetgreetbxl-1704994200@voltbelgium.org
DTSTAMP:20260423T110543Z
DTSTART;TZID=Europe/Amsterdam:20240111T183000
DTEND;TZID=Europe/Amsterdam:20240111T220000
SUMMARY:Meet & Greet Etterbeek
DESCRIPTION:It is time for another Meet & Greet in Etterbeek! We'll get tog
 ether at Vin Sur Wijn. Share a drink and talk politics with engaged Volters
  and pitch your newest democratic innovative ideas to our candidates. We wi
 ll see you on Thursday night\, and bring your friends\, colleagues and fami
 ly. Everyone is welcome!
LOCATION:Vin Sur Wijn\, Av. de l'Armée 6\, 1040 Etterbeek
URL:https://voltbelgium.org/events/20240111-meetgreetbxl
END:VEVENT
END:VCALENDAR
