BEGIN:VCALENDAR
VERSION:2.0
PRODID:-//Volt Europa//Events//EN
CALSCALE:GREGORIAN
METHOD:PUBLISH
BEGIN:VEVENT
UID:20240111-politiekcafeinantwerpen-1704996000@voltbelgium.org
DTSTAMP:20260423T130421Z
DTSTART;TZID=Europe/Amsterdam:20240111T190000
DTEND;TZID=Europe/Amsterdam:20240111T210000
SUMMARY:Politiek Café in Antwerpen (NL)
DESCRIPTION:De toekomst van Europa met Europarlementslid Sophie in ‘t Vel
 d Donderdag 11 januari 19:00 - 21:00 Locatie:  Peperfabriek Breughelstraat 
 31 2018 Antwerpen Politiek Café met onze kandidaten\, waaronder Sophie in 
 ‘t Veld\, Europarlementslid van de pan-Europese politieke partij Volt\, o
 ver de uitdagingen en kansen voor de Europese Unie in een razendsnel verand
 erende wereld. Ook onze Antwerpse kandidaten Jasper Coosemans en Jeroen Van
  Loock zullen aanwezig zijn. Je bent van harte welkom om mee te doen a
LOCATION:Peperfabriek\, Breughelstraat 31\, 2018 Antwerpen
URL:https://voltbelgium.org/events/20240111-politiekcafeinantwerpen
END:VEVENT
END:VCALENDAR
