BEGIN:VCALENDAR
VERSION:2.0
PRODID:-//Volt Europa//Events//EN
CALSCALE:GREGORIAN
METHOD:PUBLISH
BEGIN:VEVENT
UID:20240112-visteep-1705062600@voltbelgium.org
DTSTAMP:20260423T130126Z
DTSTART;TZID=Europe/Amsterdam:20240112T133000
DTEND;TZID=Europe/Amsterdam:20240112T200000
SUMMARY:Visite du Parlement européen
DESCRIPTION:Êtes-vous intéressé à en savoir plus sur le Parlement europ
 éen\, les perspectives pour les élections européennes de 2024 et la camp
 agne ? Inscrivez-vous à la visite au Parlement européen le 12 janvier ! L
 e programme commence à 13h30 et comprend une introduction au Parlement eur
 opéen\, une visite au Parti ALDE et des présentations par divers professi
 onnels de la communication politique\, ainsi que des membres des bureaux de
  Sophie in 't Veld et Damian Boeselager. À 18h30\, l'événement se conclu
 ra par
LOCATION:Parlement européen\, Bruxelles
URL:https://voltbelgique.org/evenements/20240112-visteep
END:VEVENT
END:VCALENDAR
