BEGIN:VCALENDAR
VERSION:2.0
PRODID:-//Volt Europa//Events//EN
CALSCALE:GREGORIAN
METHOD:PUBLISH
BEGIN:VEVENT
UID:20240208-etterbeek-1707415200@voltbelgium.org
DTSTAMP:20260423T130232Z
DTSTART;TZID=Europe/Amsterdam:20240208T190000
DTEND;TZID=Europe/Amsterdam:20240208T200000
SUMMARY:Volt goes to 'Etterbeek Debate about European elections'
DESCRIPTION:This is an external event visited by Volt\, but which is not or
 ganised by Volt. What kind of Europe will emerge from the ballot box on Jun
 e 9\, 2024? This question is central during a debate on February 8 in the p
 resence of 5 European journalists. For the municipal elections on October 1
 3\, 2024\, another important electoral appointment is scheduled for June 9.
  Then we will choose the new representatives of the regional and federal pa
 rliaments\, but also those of the European Parliament. Why is it us
LOCATION:Kazernenlaan 31/1 - raadzaal 2e verdieping gemeentehuis
URL:https://voltbelgium.org/events/20240208-etterbeek
END:VEVENT
END:VCALENDAR
