BEGIN:VCALENDAR
VERSION:2.0
PRODID:-//Volt Europa//Events//EN
CALSCALE:GREGORIAN
METHOD:PUBLISH
BEGIN:VEVENT
UID:20240209-polcafebxl-1707501600@voltbelgium.org
DTSTAMP:20260423T110324Z
DTSTART;TZID=Europe/Amsterdam:20240209T190000
DTEND;TZID=Europe/Amsterdam:20240209T220000
SUMMARY:Café Politique Bruxelles
DESCRIPTION:Event: Café Politique Bruxelles / Political Café Brussels Dat
 e: Friday 9 February Time: 19:00-22:00 Venue: Café des voyageurs - salle b
 ibliothèque Rue des Grands Carmes\, Lievevrouwbroersstraat 18\, 1000 Bruxe
 lles Candidates:  Suzana \,  Emeric \,  Arslan  and  Carlo Moderator: Brieu
 c
LOCATION:Café des voyageurs
URL:https://voltbelgium.org/events/20240209-polcafebxl
END:VEVENT
END:VCALENDAR
