BEGIN:VCALENDAR
VERSION:2.0
PRODID:-//Volt Europa//Events//EN
CALSCALE:GREGORIAN
METHOD:PUBLISH
BEGIN:VEVENT
UID:20240220-lln-1708452000@voltbelgium.org
DTSTAMP:20260423T125950Z
DTSTART;TZID=Europe/Amsterdam:20240220T190000
DTEND;TZID=Europe/Amsterdam:20240220T210000
SUMMARY:Meet & Greet LLN
DESCRIPTION:ðŸ‡ªðŸ‡º Do you love Europe? Are you sensitive to issues of eco
 logy\, economic inequality and governance? Do you want to meet other young 
 people who want to change the world and have a drink at the same time? Come
  and meet Volt Europa\, the pan-European party. We are present in all EU co
 untries\, as well as in Ukraine ðŸ‡ºðŸ‡¦\, Switzerland ðŸ‡¨ðŸ‡­\, Albania ð
 Ÿ‡¦ðŸ‡± and the UK ðŸ‡¬ðŸ‡§. For us\, European cooperation is at the heart 
 of our vision\, because today's societal challenges\, such as climate chang
 e and migration\, are shar
LOCATION:Brasse-Temps (Pl. des BrabanÃ§ons 4\, Louvain la Neuve)
URL:https://voltbelgium.org/events/20240220-lln
END:VEVENT
END:VCALENDAR
