BEGIN:VCALENDAR
VERSION:2.0
PRODID:-//Volt Europa//Events//EN
CALSCALE:GREGORIAN
METHOD:PUBLISH
BEGIN:VEVENT
UID:20240224-bxlla-1708765200@voltbelgium.org
DTSTAMP:20260423T182927Z
DTSTART;TZID=Europe/Amsterdam:20240224T100000
DTEND;TZID=Europe/Amsterdam:20240224T120000
SUMMARY:Local Assembly Volt Brussels
DESCRIPTION:Local Assembly by Volt Brussels. Contact  Erika Schulze  for mo
 re info.
LOCATION:Online
URL:https://voltbelgie.org/agenda/20240224-bxlla
END:VEVENT
END:VCALENDAR
