BEGIN:VCALENDAR
VERSION:2.0
PRODID:-//Volt Europa//Events//EN
CALSCALE:GREGORIAN
METHOD:PUBLISH
BEGIN:VEVENT
UID:20240225-ukraine-1708854000@voltbelgium.org
DTSTAMP:20260421T091337Z
DTSTART;TZID=Europe/Amsterdam:20240225T104000
DTEND;TZID=Europe/Amsterdam:20240225T130000
SUMMARY:Volt goes Pro-Ukraine March - Brussels 25.02.2024
DESCRIPTION:Two years of a full-scale invasion in Ukraine\, two years of fu
 ll-scale war in Europe. Such an anniversary was unthinkable in the 21st cen
 tury. Yet\, as time passes\, the conflict starts slipping from the focus of
  politics\, media\, and society. However\, Volt continues standing firm in 
 solidarity with our Ukrainian siblings both in the European Parliament as w
 ell as in the streets. That’s why Volt will be participating as a co-host
  at the march in solidarity with the Ukrainian people in Brussels on S
LOCATION:Thon Hotel (Av. du Boulevard 17\, 1210 Saint-Josse-ten-Noode)
URL:https://voltbelgium.org/events/20240225-ukraine
END:VEVENT
END:VCALENDAR
