BEGIN:VCALENDAR
VERSION:2.0
PRODID:-//Volt Europa//Events//EN
CALSCALE:GREGORIAN
METHOD:PUBLISH
BEGIN:VEVENT
UID:20240307-debatkortrijk-1709836200@voltbelgium.org
DTSTAMP:20260423T130350Z
DTSTART;TZID=Europe/Amsterdam:20240307T193000
DTEND;TZID=Europe/Amsterdam:20240307T210000
SUMMARY:Europees verkiezingsdebat (NL)
DESCRIPTION:THIS DEBATE WILL BE IN DUTCH Register via their website - we wi
 ll visit with a big purple group! Debate in Kortrijk with multiple Dutch-sp
 eaking lead candidates for the European elections\, including our Sophie in
  't Veld On Sunday\, June 9\, it's time to cast our vote for the regional\,
  federal\, and European elections. The European elections are sometimes ove
 rlooked\, but this is unjustified. Here too\, major stakes are involved: Wi
 ll Europe fulfil the ambitions of the Green Deal? How will Europe dea
LOCATION:Etienne Sabbelaan 53 8500 Kortrijk
URL:https://voltbelgium.org/events/20240307-debatkortrijk
END:VEVENT
END:VCALENDAR
