BEGIN:VCALENDAR
VERSION:2.0
PRODID:-//Volt Europa//Events//EN
CALSCALE:GREGORIAN
METHOD:PUBLISH
BEGIN:VEVENT
UID:20240314-women-1710437400@voltbelgium.org
DTSTAMP:20260423T092934Z
DTSTART;TZID=Europe/Amsterdam:20240314T183000
DTEND;TZID=Europe/Amsterdam:20240314T220000
SUMMARY:Political Café: Women in politics - dismantling stereotypes
DESCRIPTION:On the occasion of Women's Rights Week\, Volt is organizing a P
 olitical Café to discuss stereotypes of women in politics. Don't miss the 
 chance to communicate with Ulrike Fuss (Volt lead candidate for Flemish Bra
 bant at the regional elections)\, Isabella Sofía De Gregorio (Fiere)\, and
  Suzana Carp (Volt lead candidate for the European elections-FR) Women in p
 olitics are still confronted with prejudices that limit their freedom of sp
 eech and political action. What lessons do we draw for ourselves fr
LOCATION:Café Merlo\, Quai aux Briques 80\, Bruxelles 1000 (upstairs)
URL:https://voltbelgium.org/events/20240314-women
END:VEVENT
END:VCALENDAR
