BEGIN:VCALENDAR
VERSION:2.0
PRODID:-//Volt Europa//Events//EN
CALSCALE:GREGORIAN
METHOD:PUBLISH
BEGIN:VEVENT
UID:20240325-volt-connect-francophone-1-1708974000@voltbelgium.org
DTSTAMP:20260423T130231Z
DTSTART;TZID=Europe/Amsterdam:20240226T200000
DTEND;TZID=Europe/Amsterdam:20240226T203000
SUMMARY:Volt Connect (Francophone)
DESCRIPTION:Volt Connect est le moment pour nos membres de se connecter ave
 c nos responsables de campagne et nos candidats. Rejoignez-nous et apprenez
 -en davantage sur Volt et comment vous pouvez aider !
LOCATION:Online
URL:https://voltbelgique.org/evenements/20240325-volt-connect-francophone-1
END:VEVENT
END:VCALENDAR
