BEGIN:VCALENDAR
VERSION:2.0
PRODID:-//Volt Europa//Events//EN
CALSCALE:GREGORIAN
METHOD:PUBLISH
BEGIN:VEVENT
UID:20240416-meetgreetbxl-fr-1706635800@voltbelgium.org
DTSTAMP:20260423T121819Z
DTSTART;TZID=Europe/Amsterdam:20240130T183000
DTEND;TZID=Europe/Amsterdam:20240130T220000
SUMMARY:Meet & Greet Bruxelles
DESCRIPTION:Il est temps pour un autre Meet & Greet au cœur de Bruxelles !
  À l'étage du Café Merlo\, dans le quartier convivial de Dansaert\, vous
  trouverez un lieu chaleureux. Partagez un verre et parlez politique avec d
 es Volters et présentez vos nouvelles idées démocratiques innovantes à 
 nos candidats. Nous vous attendons mardi soir\, et n'oubliez pas d'amener v
 os amis\, collègues et famille. Tout le monde est le bienvenu !
LOCATION:Café Merlo\, Quai aux Briques 80\, 1000 Bruxelles
URL:https://voltbelgique.org/evenements/20240416-meetgreetbxl-fr
END:VEVENT
END:VCALENDAR
