BEGIN:VCALENDAR
VERSION:2.0
PRODID:-//Volt Europa//Events//EN
CALSCALE:GREGORIAN
METHOD:PUBLISH
BEGIN:VEVENT
UID:20240516-meetgreetbxl-fr-1715877000@voltbelgium.org
DTSTAMP:20260423T130350Z
DTSTART;TZID=Europe/Amsterdam:20240516T183000
DTEND;TZID=Europe/Amsterdam:20240516T220000
SUMMARY:Meet & Greet Bruxelles
DESCRIPTION:Il est temps pour un autre Meet & Greet au cœur de Bruxelles !
  À l'étage du Café Merlo\, dans le quartier convivial de Dansaert\, vous
  trouverez un lieu chaleureux. Partagez un verre et parlez politique avec c
 ertains de nos candidats\, des Volters et présentez vos nouvelles idées d
 émocratiques innovantes à nos candidats. Nous vous attendons ce soir\, et
  n'oubliez pas d'amener vos amis\, collègues et famille. Tout le monde est
  le bienvenu !
LOCATION:Café Merlo\, Quai aux Briques 80\, 1000 Bruxelles
URL:https://voltbelgique.org/evenements/20240516-meetgreetbxl-fr
END:VEVENT
END:VCALENDAR
