BEGIN:VCALENDAR
VERSION:2.0
PRODID:-//Volt Europa//Events//EN
CALSCALE:GREGORIAN
METHOD:PUBLISH
BEGIN:VEVENT
UID:20240529-meetgreetleuven-fr-1713979800@voltbelgium.org
DTSTAMP:20260423T142705Z
DTSTART;TZID=Europe/Amsterdam:20240424T193000
DTEND;TZID=Europe/Amsterdam:20240424T220000
SUMMARY:Meet & Greet Louvain
DESCRIPTION:Il est temps pour un autre Meet & Greet à Louvain !  Partagez 
 un verre et parlez avec des Volters et présentez vos nouvelles idées dém
 ocratiques innovantes à nos candidats. Nous vous attendons mercredi soir\,
  et n'oubliez pas d'amener vos amis\, collègues et famille. Tout le monde 
 est le bienvenu !
LOCATION:Café Via-Via\, Naamsesteenweg 227\, Heverlee
URL:https://voltbelgique.org/evenements/20240529-meetgreetleuven-fr
END:VEVENT
END:VCALENDAR
