BEGIN:VCALENDAR
VERSION:2.0
PRODID:-//Volt Europa//Events//EN
CALSCALE:GREGORIAN
METHOD:PUBLISH
BEGIN:VEVENT
UID:antwerpen-meet-greet-1717693200@voltbelgium.org
DTSTAMP:20260423T130110Z
DTSTART;TZID=Europe/Amsterdam:20240606T190000
DTEND;TZID=Europe/Amsterdam:20240606T220000
SUMMARY:Antwerpen Meet & Greet
DESCRIPTION:Are you curious about Volt's political program for the election
 s? You are welcome to join us on 6 June to meet our candidates! 🟣 Sophie
  in 't Veld\, lead candidate for the European Parliament 🟣 Bram Vandenin
 den\, candidate for the European Parliament 🟣 Jeroen Van Loock\, lead ca
 ndidate for the Flemish Parliament 🟣 Jasper Coosemans\, lead candidate f
 or the Federal Parliament This is a chance to ask questions\, share ideas\,
  and get to know more about our vision for the future. We look forward to m
 eetin
LOCATION:Peperfabriek\, Breughelstraat 31\, 2018 Antwerpen\, Belgium
URL:https://voltbelgium.org/events/antwerpen-meet-greet
END:VEVENT
END:VCALENDAR
