BEGIN:VCALENDAR
VERSION:2.0
PRODID:-//Volt Europa//Events//EN
CALSCALE:GREGORIAN
METHOD:PUBLISH
BEGIN:VEVENT
UID:apero-debat-bruxelles-volt-bxl-2026-1773770400@voltbelgium.org
DTSTAMP:20260424T173342Z
DTSTART;TZID=Europe/Amsterdam:20260317T190000
DTEND;TZID=Europe/Amsterdam:20260317T220000
SUMMARY:Apéro-débat Bruxelles – Volt BXL 2026
DESCRIPTION:Introduction à Volt: Apéro-débat sur les Etats-Unis d'Europe
  Vous souhaitez faire bouger les lignes à Bruxelles avec Volt et réfléch
 ir concrètement aux politiques de demain ? Ou vous voulez d'abord découvr
 ir Volt Europa et Volt Belgique ? Venez rencontrer les membres de Volt Brux
 elles et d'ailleurs dans une ambiance conviviale ! Pour cette édition\, no
 us avons le plaisir d'accueillir   Teun Janssens \,  collaborateur des dép
 utés européens de Volt. Teun viendra échanger avec nous sur la manière 
 don
LOCATION:1er étage Café Merlo\, Quai aux Briques 80\, 1000 Bruxelles
URL:https://voltbelgique.org/bruxelles/evenements/apero-debat-bruxelles-vol
 t-bxl-2026
END:VEVENT
END:VCALENDAR
