BEGIN:VCALENDAR
VERSION:2.0
PRODID:-//Volt Europa//Events//EN
CALSCALE:GREGORIAN
METHOD:PUBLISH
BEGIN:VEVENT
UID:apero-debat-habiter-leurope-1745510400@voltbelgium.org
DTSTAMP:20260423T110603Z
DTSTART;TZID=Europe/Amsterdam:20250424T180000
DTEND;TZID=Europe/Amsterdam:20250424T190000
SUMMARY:Apéro-Débat : Habiter l’Europe
DESCRIPTION:Tout le monde est le bienvenu à cet événement gratuit. Langu
 es : FR 🇫🇷 EN 🇬🇧 NL 🇳🇱 IT 🇮🇹 Trouver une maison à
  Bruxelles qui puisse assurer stabilité et logement de qualité est un pro
 cessus qui ressemble\, en termes de timing et d’engagement\, au projet po
 litique de la maison commune européenne. Hyperbole mise à part\, le défi
  du logement en Région Bruxelloise rassemble jeunes et moins jeunes\, nouv
 eaux et anciens résidents\, Européens et non-Européens\, aisés ou en di
 fficulté financière\, il aborde div
LOCATION:Volt Hub\, Galerie du Cinquantenaire\, Av. de Tervuren 32-36
URL:https://voltbelgique.org/bruxelles/evenements/apero-debat-habiter-leuro
 pe
END:VEVENT
END:VCALENDAR
