BEGIN:VCALENDAR
VERSION:2.0
PRODID:-//Volt Europa//Events//EN
CALSCALE:GREGORIAN
METHOD:PUBLISH
BEGIN:VEVENT
UID:apero-debat-le-rapport-du-rule-of-law-avec-sophie-in-t-veld-1756917000@
 voltbelgium.org
DTSTAMP:20260423T231443Z
DTSTART;TZID=Europe/Amsterdam:20250903T183000
DTEND;TZID=Europe/Amsterdam:20250903T210000
SUMMARY:Apéro-debat le rapport du "Rule of Law" avec Sophie in 't Veld
DESCRIPTION:🇪🇺⚖️🇧🇪 Que révèle le rapport sur l’État de
  droit de l’UE à propos de la Belgique… Cet événement se déroulera 
 principalement en Français Notre prochain Apéro-débat explorera l’Éta
 t de droit en Europe\, en prenant la Belgique comme étude de cas. Alors qu
 e les inquiétudes concernant la Pologne ou la Hongrie font souvent la une\
 , les problèmes propres à la Belgique sont rarement évoqués. Le rapport
  sur l’État de droit de la Commission (24 juillet 2025) met en lumière 
 le non-respect des jugements des t
LOCATION:Volt Hub\, Galerie du Cinquantenaire\, Av. de Tervuren 32-36\, 104
 0 Etterbeek
URL:https://voltbelgique.org/evenements/apero-debat-le-rapport-du-rule-of-l
 aw-avec-sophie-in-t-veld
END:VEVENT
END:VCALENDAR
