BEGIN:VCALENDAR
VERSION:2.0
PRODID:-//Volt Europa//Events//EN
CALSCALE:GREGORIAN
METHOD:PUBLISH
BEGIN:VEVENT
UID:assemblee-generale-extraordinaire-age-de-volt-belgique-1710091800@voltb
 elgium.org
DTSTAMP:20260423T130529Z
DTSTART;TZID=Europe/Amsterdam:20240310T183000
DTEND;TZID=Europe/Amsterdam:20240310T193000
SUMMARY:Assemblée générale extraordinaire (AGE) de Volt Belgique
DESCRIPTION:Le Conseil électoral et le Conseil d’administration de Volt 
 Belgique ont le plaisir de vous inviter à l’Assemblée générale extrao
 rdinaire (AGE) de Volt Belgique le  dimanche 10  mars 2024 de 18h30 à 19h3
 0 CET\, qui se déroulera en ligne.  Veuillez vous renseigner auprès de  
 l'administration de Volt Belgique  pour obtenir le token de vote et le lien
  pour vous connecter à la réunion. Contexte : Le Conseil d’Administrati
 on a proposé plusieurs amendements aux statuts\, pour lesquels les membres
  doiven
LOCATION:En ligne
URL:https://voltbelgique.org/evenements/assemblee-generale-extraordinaire-a
 ge-de-volt-belgique
END:VEVENT
END:VCALENDAR
