BEGIN:VCALENDAR
VERSION:2.0
PRODID:-//Volt Europa//Events//EN
CALSCALE:GREGORIAN
METHOD:PUBLISH
BEGIN:VEVENT
UID:beleidscafe-openbaar-vervoer-nl-1710354600@voltbelgium.org
DTSTAMP:20260423T130242Z
DTSTART;TZID=Europe/Amsterdam:20240313T193000
DTEND;TZID=Europe/Amsterdam:20240313T223000
SUMMARY:Beleidscafé Openbaar Vervoer (NL)
DESCRIPTION:Event will be in Dutch Beleidscafé Openbaar Vervoer Een avond 
 vol interessante discussies over ons openbaar vervoer\, van lokaal tot Euro
 pees niveau: moet er een tram komen in Mechelen\, hoe kan een Europees tran
 sportagentschap zorgen voor meer hogesnelheidstreinen\, nachttreinenen en g
 rensoverstijgend openbaar vervoer ? Wat vinden jullie van het idee van Volt
  België om onbeperkt treinvervoer aan te bieden voor 250 euro per jaar voo
 r minder files\, meer vrijheid en minder co2? Na een korte toelichti
LOCATION:Mechelen\, Reiscafé Via Via\, zandpoortvest 2800 Mechelen
URL:https://voltbelgium.org/events/beleidscafe-openbaar-vervoer-nl
END:VEVENT
END:VCALENDAR
