BEGIN:VCALENDAR
VERSION:2.0
PRODID:-//Volt Europa//Events//EN
CALSCALE:GREGORIAN
METHOD:PUBLISH
BEGIN:VEVENT
UID:brussels-pride-2024-1716026400@voltbelgium.org
DTSTAMP:20260423T104259Z
DTSTART;TZID=Europe/Amsterdam:20240518T120000
DTEND;TZID=Europe/Amsterdam:20240518T210000
SUMMARY:Brussels Pride 2024
DESCRIPTION:🌈 Join Volt Belgium at Brussels Pride 2024! 🌈 Detailed sc
 hedule of the day: 12:30 - 14:00 : we meet at our booth. The location will 
 be at Pride Village @ Boulevard de l'Empereur / Mont des Arts. We aim to ta
 ke a group photo around 13:00. 14:00 - 18:00 : The March will go through th
 e city. Come support the Volt colours during the March! In the mean time\, 
 a small group of volunteers will stay at the booth for flyering. Contact: R
 adoslav Soth radoslav.soth@volteuropa.org 🏳‍🌈 Your participation ma
 tt
LOCATION:Brussels
URL:https://voltbelgium.org/events/brussels-pride-2024
END:VEVENT
END:VCALENDAR
