BEGIN:VCALENDAR
VERSION:2.0
PRODID:-//Volt Europa//Events//EN
CALSCALE:GREGORIAN
METHOD:PUBLISH
BEGIN:VEVENT
UID:bruxelles-assemblee-locale-1765391400@voltbelgium.org
DTSTAMP:20260423T064625Z
DTSTART;TZID=Europe/Amsterdam:20251210T193000
DTEND;TZID=Europe/Amsterdam:20251210T220000
SUMMARY:Bruxelles Assemblée Locale
DESCRIPTION:Volt Bruxelles vous invite à sa prochaine Assemblée Locale ! 
 Nous cherchons des candidat·e·s pour les positions des  deux City Co-lead
 s pour Volt Bruxelles . Les membres de Volt qui sont femmes ou divers sont 
 particulièrement invités à déposer leur candidature. Nous vous prions d
 e bien vouloir envoyer votre candidature avant  vendredi\, 5 décembre 2025
 \, à 18h  à l’adresse suivante :  brussels@voltbelgium.org . ‼️Les
  membres de Volt qui peuvent voter vont recevoir un autre email avec leur j
 eton po
LOCATION:Café Merlo\, Quai aux briques 80\, 1000 Bruxelles
URL:https://voltbelgique.org/bruxelles/evenements/bruxelles-assemblee-local
 e
END:VEVENT
END:VCALENDAR
