BEGIN:VCALENDAR
VERSION:2.0
PRODID:-//Volt Europa//Events//EN
CALSCALE:GREGORIAN
METHOD:PUBLISH
BEGIN:VEVENT
UID:cafe-debat-avec-vos-candidats-volt-a-etterbeek-1728496800@voltbelgium.o
 rg
DTSTAMP:20260423T133919Z
DTSTART;TZID=Europe/Amsterdam:20241009T200000
DTEND;TZID=Europe/Amsterdam:20241009T220000
SUMMARY:Café-débat avec vos candidats Volt à Etterbeek
DESCRIPTION:Café Debat with the candidates of Volt Europa Etterbeek and in
 vitees in Sint-Pieterssteenweg 49\, 1040 Etterbeek. Join us there from 8 pm
  on 9 October! https://voltbelgium.org/etterbeek
LOCATION:Sint-Pieterssteenweg 49\, 1040 Etterbeek
URL:https://voltbelgique.org/evenements/cafe-debat-avec-vos-candidats-volt-
 a-etterbeek
END:VEVENT
END:VCALENDAR
