BEGIN:VCALENDAR
VERSION:2.0
PRODID:-//Volt Europa//Events//EN
CALSCALE:GREGORIAN
METHOD:PUBLISH
BEGIN:VEVENT
UID:cafe-politique-louvain-a-cafe-tempo-19-mars-2-1710873000@voltbelgium.or
 g
DTSTAMP:20260423T130716Z
DTSTART;TZID=Europe/Amsterdam:20240319T193000
DTEND;TZID=Europe/Amsterdam:20240319T220000
SUMMARY:Café Politique Leuven : Qu'est-ce qui empêche les femmes de se la
 ncer en politique ?
DESCRIPTION:Les droits des femmes sont essentiels pour parler de justice so
 ciale. Nous vous invitons à une discussion ouverte sur ce qui empêche les
  femmes de rejoindre la politique\, et à découvrir comment Volt intègre 
 une dimension féminine dans ses propositions politiques. Venez partager vo
 s points de vue et vos idées innovantes dans une ambiance chaleureuse au C
 afé Tempo (à l'étage). N'oubliez pas d'amener votre famille et vos amis.
  Tout le monde est le bienvenu! Langue : néerlandais
LOCATION:Café Tempo - Baron August de Becker Remyplein 52\, 3010 Louvain
URL:https://voltbelgique.org/evenements/cafe-politique-louvain-a-cafe-tempo
 -19-mars-2
END:VEVENT
END:VCALENDAR
