BEGIN:VCALENDAR
VERSION:2.0
PRODID:-//Volt Europa//Events//EN
CALSCALE:GREGORIAN
METHOD:PUBLISH
BEGIN:VEVENT
UID:dutch-exit-polls-1717691400@voltbelgium.org
DTSTAMP:20260423T125944Z
DTSTART;TZID=Europe/Amsterdam:20240606T183000
DTEND;TZID=Europe/Amsterdam:20240606T220000
SUMMARY:Dutch Exit Polls with Volt Brussels
DESCRIPTION:JOIN US FOR THE DUTCH EXIT POLL EVENT 6 JUNE 20.30-21.30 CEST M
 eet the team of Volt Brussels\, celebrate the electoral success of Volt in 
 the Netherlands. The Volt Hub will be accessible all day for volunteers to 
 drop by to pick up flyers to drop into letterboxes with the team. From 20.3
 0-21.30 CEST\, we will tune in at the Volt Hub with Mike Winkel and Maartje
  de Vroege who are going to be live from the Dutch Election evening in Amst
 erdam on youtube. This promises to be a truly special moment\, wh
LOCATION:Volt Hub (Galerie du Cinquantenaire\, Tervurenlaan 32/36\, 1040 Et
 terbeek)
URL:https://voltbelgium.org/events/dutch-exit-polls
END:VEVENT
END:VCALENDAR
