BEGIN:VCALENDAR
VERSION:2.0
PRODID:-//Volt Europa//Events//EN
CALSCALE:GREGORIAN
METHOD:PUBLISH
BEGIN:VEVENT
UID:election-debrief-eur-fed-reg-hybrid-volt-hub-google-meets-1719061200@vo
 ltbelgium.org
DTSTAMP:20260423T130528Z
DTSTART;TZID=Europe/Amsterdam:20240622T150000
DTEND;TZID=Europe/Amsterdam:20240622T160000
SUMMARY:Election Debrief (EUR/FED/REG) - Hybrid: Volt Hub / Google Meets
DESCRIPTION:Dear members and supporters\, the board of Volt Belgium and the
  Campaign team is organising on the 22nd of June an Election Debrief for t
 he European\, federal and regional elections. This will be a moment where y
 ou can ask any questions you might have\, discuss feedback with the team an
 d learn about how you can join the campaign team for the local elections. T
 he debrief will take place hybrid from 15.00 to 16.00\, in-person in Brusse
 ls at the Volt Hub (Galerie du Cinquantenaire\, Tervurenlaan 32/36\, 
LOCATION:Hybrid - Volt Hub (Brussels) / Google Meets
URL:https://voltbelgie.org/agenda/election-debrief-eur-fed-reg-hybrid-volt-
 hub-google-meets
END:VEVENT
END:VCALENDAR
