BEGIN:VCALENDAR
VERSION:2.0
PRODID:-//Volt Europa//Events//EN
CALSCALE:GREGORIAN
METHOD:PUBLISH
BEGIN:VEVENT
UID:join-the-final-push-on-7th-and-8th-of-june-1717797600@voltbelgium.org
DTSTAMP:20260423T130512Z
DTSTART;TZID=Europe/Amsterdam:20240608T000000
DTEND;TZID=Europe/Amsterdam:20240608T235900
SUMMARY:Join the Final Push on 7th and 8th of June
DESCRIPTION:Help Volt with a Final Push for the election campaign on 7th an
 d 8th of June! Feeling excited by the news of  Volt winning at least one se
 at in Netherlands  and  polling at 3 seats in Germany ? There are plenty of
  teams in Belgium you can help for a final push on Friday and Saturday! Gen
 eral questions? Contact  campaign@voltbelgium.org  or Carlo Giudice  +32497
 851105 Election evening on Sunday in Brussels?   More info here . Antwerp F
 riday from 12:00 PM:  Distributing flyers at Antwerp-Berchem s
LOCATION:Belgium
URL:https://voltbelgique.org/evenements/join-the-final-push-on-7th-and-8th-
 of-june
END:VEVENT
END:VCALENDAR
