BEGIN:VCALENDAR
VERSION:2.0
PRODID:-//Volt Europa//Events//EN
CALSCALE:GREGORIAN
METHOD:PUBLISH
BEGIN:VEVENT
UID:journee-de-leurope-schengen-march-fr-1715245200@voltbelgium.org
DTSTAMP:20260423T130422Z
DTSTART;TZID=Europe/Amsterdam:20240509T110000
DTEND;TZID=Europe/Amsterdam:20240509T230000
SUMMARY:Journée de l'Europe - Schengen March
DESCRIPTION:En 2019\, différentes sections de Volt se sont réunies pour u
 ne marche transfrontalière à la frontière triangulaire entre la France\,
  l'Allemagne et le Luxembourg. 5 ans plus tard\, nous recréons cet événe
 ment pour montrer le caractère paneuropéen de notre mouvement politique. 
 Cet événement aura lieu le 9 mai\, lorsque l'Union européenne célèbre 
 la Journée de l'Europe pour commémorer la déclaration Schuman\, désorma
 is considérée comme l'acte fondateur de l'UE. Programme jeudi 9 mai 2024 
 10h00 Install
LOCATION:Rue Robert Goebbels\, 5444 Schengen\, Luxembourg
URL:https://voltbelgique.org/evenements/journee-de-leurope-schengen-march-f
 r
END:VEVENT
END:VCALENDAR
