BEGIN:VCALENDAR
VERSION:2.0
PRODID:-//Volt Europa//Events//EN
CALSCALE:GREGORIAN
METHOD:PUBLISH
BEGIN:VEVENT
UID:les-retrouvailles-1757142000@voltbelgium.org
DTSTAMP:20260423T104143Z
DTSTART;TZID=Europe/Amsterdam:20250906T090000
DTEND;TZID=Europe/Amsterdam:20250907T190000
SUMMARY:Les Retrouvailles
DESCRIPTION:On  the 6th and 7th of September\, you'll find a Volt infostand
  at Les Retrouvailles in Liège. This cosy event\, right after the summer h
 olidays\, attracts more than 35000 visitors yearly. Always wanted to meet t
 he Volt Belgium team\, help a hand\, or simply needed an excuse to visit Li
 ège\, now's the time! You can find the official flyer  here .
LOCATION:Parc de la Boverie\, Liège
URL:https://voltbelgium.org/events/les-retrouvailles
END:VEVENT
END:VCALENDAR
