BEGIN:VCALENDAR
VERSION:2.0
PRODID:-//Volt Europa//Events//EN
CALSCALE:GREGORIAN
METHOD:PUBLISH
BEGIN:VEVENT
UID:maandelijkse-bijeenkomst-van-volt-leuven-nl-1751477400@voltbelgium.org
DTSTAMP:20260423T092725Z
DTSTART;TZID=Europe/Amsterdam:20250702T193000
DTEND;TZID=Europe/Amsterdam:20250702T220000
SUMMARY:Maandelijkse bijeenkomst van Volt Leuven [NL]
DESCRIPTION:Wil je graag meedenken en meehelpen aan onze lokale werking? Da
 n ben je van harte welkom op ons maandelijkse overleg! We brengen de kern v
 an Volt Leuven samen\, bespreken lopende projecten\, maken plannen voor de 
 komende tijd en staan open voor nieuwe ideeën. We zijn ook op zoek naar ni
 euwe mensen die mee hun schouders onder onze werking willen zetten. Kom gew
 oon langs.  We vinden het leuk als je er bent!
LOCATION:Café Tempo\, Baron August de Becker Remyplein\, 52 in 3010 Kessel
 -Lo (Leuven)
URL:https://voltbelgium.org/events/maandelijkse-bijeenkomst-van-volt-leuven
 -nl
END:VEVENT
END:VCALENDAR
