BEGIN:VCALENDAR
VERSION:2.0
PRODID:-//Volt Europa//Events//EN
CALSCALE:GREGORIAN
METHOD:PUBLISH
BEGIN:VEVENT
UID:marche-du-soir-1757170800@voltbelgium.org
DTSTAMP:20260425T104717Z
DTSTART;TZID=Europe/Amsterdam:20250906T170000
DTEND;TZID=Europe/Amsterdam:20250906T220000
SUMMARY:Marché du soir à Tervuren
DESCRIPTION:Le marché du soir à Tervuren est enfin de retour. Venez profi
 ter d’une ambiance estivale\, de belles rencontres et de beaucoup de conv
 ivialité ! Vous y trouverez de nombreux stands\, des boissons et de la mus
 ique  et bien sûr\, Volt sera aussi présent . Sur notre stand\, vous pour
 rez découvrir toutes nos réalisations au conseil communal ainsi que nos p
 rojets pour l’avenir. Vous aurez également  l’occasion de rencontrer l
 es conseillers communaux de Tervuren Unie + Volt  pour une discussion convi
 viale
LOCATION:Markt 13\, 3080 Tervuren
URL:https://voltbelgique.org/evenements/marche-du-soir
END:VEVENT
END:VCALENDAR
