BEGIN:VCALENDAR
VERSION:2.0
PRODID:-//Volt Europa//Events//EN
CALSCALE:GREGORIAN
METHOD:PUBLISH
BEGIN:VEVENT
UID:marche-europeenne-1778331600@voltbelgium.org
DTSTAMP:20260421T090956Z
DTSTART;TZID=Europe/Amsterdam:20260509T150000
DTEND;TZID=Europe/Amsterdam:20260509T170000
SUMMARY:Marche europÃ©enne
DESCRIPTION:Veuillez vous inscrire afin que nous sachions combien de person
 nes attendre. Nous aimons lâ€™Europe et nous la cÃ©lÃ©brons lors de la  Jou
 rnÃ©e de lâ€™Europe  avec une marche Ã  travers Gand !  Nous croyons en lâ€
 ™Ã©norme potentiel dâ€™une Europe unie\, mais voyons encore de nombreux poi
 nts Ã  amÃ©liorer\, tels que Un systÃ¨me vÃ©ritablement dÃ©mocratique avec 
 un prÃ©sident de lâ€™UE Ã©lu directement et sans abus de veto (avez-vous dÃ
 ©jÃ  entendu parler dâ€™OrbÃ¡n en Hongrie ?) Un vÃ©ritable marchÃ© europÃ©e
 n unifiÃ© sans barri
LOCATION:Rabotpark => Kouter\, Gand
URL:https://voltbelgique.org/evenements/marche-europeenne
END:VEVENT
END:VCALENDAR
