BEGIN:VCALENDAR
VERSION:2.0
PRODID:-//Volt Europa//Events//EN
CALSCALE:GREGORIAN
METHOD:PUBLISH
BEGIN:VEVENT
UID:meet-and-greet-leuven-1-1775064600@voltbelgium.org
DTSTAMP:20260425T183706Z
DTSTART;TZID=Europe/Amsterdam:20260401T193000
DTEND;TZID=Europe/Amsterdam:20260401T210000
SUMMARY:Meet and greet Leuven in april
DESCRIPTION:Benieuwd naar Volt of zin om mee te bouwen aan een toekomstgeri
 chte politiek in Leuven? Kom kennismaken met ons team tijdens onze Meet & G
 reet! Of je nu gewoon nieuwsgierig bent of actief wil meedoen — je bent v
 an harte welkom! Tot dan!
LOCATION:Baron August de Becker Remyplein 52\, 3010 Kessel-Lo
URL:https://voltbelgie.org/leuven/agenda/meet-and-greet-leuven-1
END:VEVENT
END:VCALENDAR
